BEGIN:VCALENDAR
VERSION:2.0
PRODID:-//Animatou - ECPv6.15.14//NONSGML v1.0//EN
CALSCALE:GREGORIAN
METHOD:PUBLISH
X-WR-CALNAME:Animatou
X-ORIGINAL-URL:https://animatou.com
X-WR-CALDESC:Évènements pour Animatou
REFRESH-INTERVAL;VALUE=DURATION:PT1H
X-Robots-Tag:noindex
X-PUBLISHED-TTL:PT1H
BEGIN:VTIMEZONE
TZID:Europe/Berlin
BEGIN:DAYLIGHT
TZOFFSETFROM:+0100
TZOFFSETTO:+0200
TZNAME:CEST
DTSTART:20210328T010000
END:DAYLIGHT
BEGIN:STANDARD
TZOFFSETFROM:+0200
TZOFFSETTO:+0100
TZNAME:CET
DTSTART:20211031T010000
END:STANDARD
BEGIN:DAYLIGHT
TZOFFSETFROM:+0100
TZOFFSETTO:+0200
TZNAME:CEST
DTSTART:20220327T010000
END:DAYLIGHT
BEGIN:STANDARD
TZOFFSETFROM:+0200
TZOFFSETTO:+0100
TZNAME:CET
DTSTART:20221030T010000
END:STANDARD
BEGIN:DAYLIGHT
TZOFFSETFROM:+0100
TZOFFSETTO:+0200
TZNAME:CEST
DTSTART:20230326T010000
END:DAYLIGHT
BEGIN:STANDARD
TZOFFSETFROM:+0200
TZOFFSETTO:+0100
TZNAME:CET
DTSTART:20231029T010000
END:STANDARD
END:VTIMEZONE
BEGIN:VEVENT
DTSTART;TZID=Europe/Berlin:20221008T103000
DTEND;TZID=Europe/Berlin:20221008T113000
DTSTAMP:20260422T191853
CREATED:20250502T162320Z
LAST-MODIFIED:20260420T170902Z
UID:50995-1665225000-1665228600@animatou.com
SUMMARY:Compétition Caramel
DESCRIPTION:Dès 3 ans \nEn présence de membres du jury et de certain·e·s réalisateurs·trices \nLe·la lauréat·e de la Compétition Caramel est déterminé·e par le vote des enfants des espaces de vie enfantine de la Ville de Genève et de Carouge lors de séances privées qui ont lieu la semaine précédent le festival.
URL:https://animatou.com/event/2022-competition-caramel/
LOCATION:Alhambra\, Rue de la Rôtisserie 10\, Genève\, 1204\, Suisse
CATEGORIES:Alhambra,Compétition Caramel,Jeune public>Animatoup'tits
END:VEVENT
END:VCALENDAR