BEGIN:VCALENDAR
VERSION:2.0
PRODID:-//Animatou - ECPv6.15.14//NONSGML v1.0//EN
CALSCALE:GREGORIAN
METHOD:PUBLISH
X-WR-CALNAME:Animatou
X-ORIGINAL-URL:https://animatou.com
X-WR-CALDESC:Évènements pour Animatou
REFRESH-INTERVAL;VALUE=DURATION:PT1H
X-Robots-Tag:noindex
X-PUBLISHED-TTL:PT1H
BEGIN:VTIMEZONE
TZID:Europe/Berlin
BEGIN:DAYLIGHT
TZOFFSETFROM:+0100
TZOFFSETTO:+0200
TZNAME:CEST
DTSTART:20220327T010000
END:DAYLIGHT
BEGIN:STANDARD
TZOFFSETFROM:+0200
TZOFFSETTO:+0100
TZNAME:CET
DTSTART:20221030T010000
END:STANDARD
BEGIN:DAYLIGHT
TZOFFSETFROM:+0100
TZOFFSETTO:+0200
TZNAME:CEST
DTSTART:20230326T010000
END:DAYLIGHT
BEGIN:STANDARD
TZOFFSETFROM:+0200
TZOFFSETTO:+0100
TZNAME:CET
DTSTART:20231029T010000
END:STANDARD
BEGIN:DAYLIGHT
TZOFFSETFROM:+0100
TZOFFSETTO:+0200
TZNAME:CEST
DTSTART:20240331T010000
END:DAYLIGHT
BEGIN:STANDARD
TZOFFSETFROM:+0200
TZOFFSETTO:+0100
TZNAME:CET
DTSTART:20241027T010000
END:STANDARD
END:VTIMEZONE
BEGIN:VEVENT
DTSTART;TZID=Europe/Berlin:20231007T103000
DTEND;TZID=Europe/Berlin:20231007T113000
DTSTAMP:20260423T005518
CREATED:20230912T110606Z
LAST-MODIFIED:20241125T163316Z
UID:42353-1696674600-1696678200@animatou.com
SUMMARY:Compétition Caramel
DESCRIPTION:SÉANCE COMPLÈTE EN LIGNE\nDES BILLETS SERONT VENDUS À LA CAISSE DU CINÉMA\nDANS LA LIMITE DES PLACES DISPONIBLES \nLe·la lauréat·e de la Compétition Caramel est déterminé·e par le vote des\nenfants des espaces de vie enfantine de la Ville de Genève et de Carouge\nlors de séances privées qui ont lieu durant le festival.
URL:https://animatou.com/event/2023-competition-caramel/
LOCATION:Alhambra\, Rue de la Rôtisserie 10\, Genève\, 1204\, Suisse
CATEGORIES:Alhambra,Animatoup'tits,Compétition Caramel,Jeune public
ATTACH;FMTTYPE=image/jpeg:https://animatou.com/wp-content/uploads/2023/08/Cat_Still_002.jpg
END:VEVENT
BEGIN:VEVENT
DTSTART;TZID=Europe/Berlin:20231013T190000
DTEND;TZID=Europe/Berlin:20231013T190000
DTSTAMP:20260423T005518
CREATED:20230921T121522Z
LAST-MODIFIED:20231013T191253Z
UID:43628-1697223600-1697223600@animatou.com
SUMMARY:Palmarès & projection des films primés
DESCRIPTION:Entrée libre sous réserve de places disponibles \nLors de cette soirée le palmarès sera dévoilé et le public pourra découvrir ou revoir les films primés.\nL’âge recommandé pour cette séance dépendra des films lauréats.\nLe programme débutera par les films destinés au jeune public et sera donc présenté dans l’ordre des âges recommandés de chaque film.\nAttention\, certaines oeuvres présentées en deuxième partie de soirée peuvent heurter la sensibilité du jeune public! \n\nPendant le weekend du 13 et 14 octobre\, le Festival Electron prend possession de la Rue de la Coulouvrenière. L’accès au Spoutnik se fait en contournant le bâtiment de l’Usine par les quais.
URL:https://animatou.com/event/2023-palmares-projection-des-films-primes/
LOCATION:Cinéma Spoutnik\, 11 rue de la Coulouvrenière\, Genève\, 1204
CATEGORIES:Compétition Caramel,Compétition Doc'Anim,Compétition internationale,Compétition Jeune public,Compétition Labo,Compétition Pistache,Compétition suisse,En compétition,Gratuit,Scolaires,Spoutnik
ATTACH;FMTTYPE=image/png:https://animatou.com/wp-content/uploads/2014/07/cropped-Trophee-matou.png
END:VEVENT
END:VCALENDAR