BEGIN:VCALENDAR
VERSION:2.0
PRODID:-//Animatou - ECPv6.15.14//NONSGML v1.0//EN
CALSCALE:GREGORIAN
METHOD:PUBLISH
X-ORIGINAL-URL:https://animatou.com
X-WR-CALDESC:Évènements pour Animatou
REFRESH-INTERVAL;VALUE=DURATION:PT1H
X-Robots-Tag:noindex
X-PUBLISHED-TTL:PT1H
BEGIN:VTIMEZONE
TZID:Europe/Berlin
BEGIN:DAYLIGHT
TZOFFSETFROM:+0100
TZOFFSETTO:+0200
TZNAME:CEST
DTSTART:20230326T010000
END:DAYLIGHT
BEGIN:STANDARD
TZOFFSETFROM:+0200
TZOFFSETTO:+0100
TZNAME:CET
DTSTART:20231029T010000
END:STANDARD
BEGIN:DAYLIGHT
TZOFFSETFROM:+0100
TZOFFSETTO:+0200
TZNAME:CEST
DTSTART:20240331T010000
END:DAYLIGHT
BEGIN:STANDARD
TZOFFSETFROM:+0200
TZOFFSETTO:+0100
TZNAME:CET
DTSTART:20241027T010000
END:STANDARD
BEGIN:DAYLIGHT
TZOFFSETFROM:+0100
TZOFFSETTO:+0200
TZNAME:CEST
DTSTART:20250330T010000
END:DAYLIGHT
BEGIN:STANDARD
TZOFFSETFROM:+0200
TZOFFSETTO:+0100
TZNAME:CET
DTSTART:20251026T010000
END:STANDARD
END:VTIMEZONE
BEGIN:VEVENT
DTSTART;TZID=Europe/Berlin:20241005T103000
DTEND;TZID=Europe/Berlin:20241005T113000
DTSTAMP:20260423T023823
CREATED:20240917T083649Z
LAST-MODIFIED:20241004T114136Z
UID:48162-1728124200-1728127800@animatou.com
SUMMARY:Compétition Caramel
DESCRIPTION:Ventes en ligne terminées\, billets disponibles à la caisse de l’Alhambra 45 minutes avant la séance\n\n6 courts métrages | 40 minutes \nProgramme réunissant les courts métrages animés de tous horizons et de tous genres destinés au très jeune public.\nLe prix Caramel est déterminé par le vote des enfants des institutions de la petite enfance de la Ville de Genève et de la Ville de Carouge lors de séances privées qui ont lieu durant le festival. Cette dernière diffusion est publique et permet aux enfants de revoir les films et de découvrir le ou la lauréat·e de la compétition.
URL:https://animatou.com/event/2024-competition-caramel/
LOCATION:Alhambra\, Rue de la Rôtisserie 10\, Genève\, 1204\, Suisse
CATEGORIES:Alhambra,Animatoup'tits,Compétition Caramel,Jeune public,Tout public
ATTACH;FMTTYPE=image/jpeg:https://animatou.com/wp-content/uploads/2024/08/la-boulangerie-de-boris.jpg
END:VEVENT
BEGIN:VEVENT
DTSTART;TZID=Europe/Berlin:20241011T190000
DTEND;TZID=Europe/Berlin:20241011T230000
DTSTAMP:20260423T023823
CREATED:20240917T084705Z
LAST-MODIFIED:20241010T162718Z
UID:48632-1728673200-1728687600@animatou.com
SUMMARY:Palmarès & projection des films primés
DESCRIPTION:Entrée libre sous réserve de places disponibles \nCette grande soirée de l’animation débutera par la cérémonie de clôture de l’édition\, lors de laquelle le palmarès 2024 sera dévoilé. La soirée se poursuivra avec une longue séance lors de laquelle le public pourra découvrir\, ou revoir\, les films primés.\nLe programme débutera par les films destinés au jeune public et sera donc présenté dans l’ordre des âges recommandés de chaque film.\nAttention\, certaines œuvres présentées en deuxième partie de soirée peuvent heurter la sensibilité du jeune public! \nCette séance a lieu à la salle de conférences du Bâtiment d’Art Contemporain
URL:https://animatou.com/event/2024-palmares-projection-des-films-primes/
LOCATION:Salle de conférence du Bâtiment d’Art Contemporain\, Rez-de-chaussée\, Bâtiment d'Art Contemporain\, 10 rue des Vieux-Grenadiers\, Genève\, 1205\, Suisse
CATEGORIES:Auditoire et salle de conférence du Bâtiment d'Art Contemporain,Compétition Caramel,Compétition Doc'Anim,Compétition internationale,Compétition Jeune public,Compétition Labo,Compétition Pistache,Compétition suisse,En compétition,Gratuit,Scolaires
ATTACH;FMTTYPE=image/jpeg:https://animatou.com/wp-content/uploads/2019/05/Trophées-Animatou-2014-scaled.jpg
END:VEVENT
END:VCALENDAR