BEGIN:VCALENDAR
VERSION:2.0
PRODID:-//Animatou - ECPv6.15.14//NONSGML v1.0//EN
CALSCALE:GREGORIAN
METHOD:PUBLISH
X-WR-CALNAME:Animatou
X-ORIGINAL-URL:https://animatou.com
X-WR-CALDESC:Évènements pour Animatou
REFRESH-INTERVAL;VALUE=DURATION:PT1H
X-Robots-Tag:noindex
X-PUBLISHED-TTL:PT1H
BEGIN:VTIMEZONE
TZID:Europe/Berlin
BEGIN:DAYLIGHT
TZOFFSETFROM:+0100
TZOFFSETTO:+0200
TZNAME:CEST
DTSTART:20210328T010000
END:DAYLIGHT
BEGIN:STANDARD
TZOFFSETFROM:+0200
TZOFFSETTO:+0100
TZNAME:CET
DTSTART:20211031T010000
END:STANDARD
BEGIN:DAYLIGHT
TZOFFSETFROM:+0100
TZOFFSETTO:+0200
TZNAME:CEST
DTSTART:20220327T010000
END:DAYLIGHT
BEGIN:STANDARD
TZOFFSETFROM:+0200
TZOFFSETTO:+0100
TZNAME:CET
DTSTART:20221030T010000
END:STANDARD
BEGIN:DAYLIGHT
TZOFFSETFROM:+0100
TZOFFSETTO:+0200
TZNAME:CEST
DTSTART:20230326T010000
END:DAYLIGHT
BEGIN:STANDARD
TZOFFSETFROM:+0200
TZOFFSETTO:+0100
TZNAME:CET
DTSTART:20231029T010000
END:STANDARD
END:VTIMEZONE
BEGIN:VEVENT
DTSTART;TZID=Europe/Berlin:20221012T130000
DTEND;TZID=Europe/Berlin:20221012T170000
DTSTAMP:20260422T034312
CREATED:20250502T162314Z
LAST-MODIFIED:20260420T174511Z
UID:50985-1665579600-1665594000@animatou.com
SUMMARY:Atelier Lo-Fi animation
DESCRIPTION:De 13h00 à 17h00 │ Centre d’Art Contemporain\, 4ème étage │ Dès 8 ans\nGratuit |  Sur inscription : info@animatou.com | Dans la limite des places disponibles \nComment créer des GIFs et des petites animations numériques.\nAnimé par Luan Banzai\, artiste visuel brésilien basé à Genève\, qui travaille entre la Suisse et le Japon. \nLuan Banzai\nDe nos jours\, il n’est plus nécessaire d’être un génie du dessin ou un super geek pour arriver à faire de l’animation. Les outils pour créer des images animées sont divers et très accessibles. Cet atelier propose une journée de découvertes et d’expérimentation\, des outils d’animation sur iPad pour créer des GIFs\, des personnages de jeux vidéo\, des mini-histoires\, des formes bizarres ou même des erreurs et des «bugs» expressifs! \n  \n  \n 
URL:https://animatou.com/event/2022-atelier-lo-fi-animation/
LOCATION:Salle de conférence du Bâtiment d’Art Contemporain\, Rez-de-chaussée\, Bâtiment d'Art Contemporain\, 10 rue des Vieux-Grenadiers\, Genève\, 1205\, Suisse
CATEGORIES:Anim'Apéro & Mercredis de l'anim,Dynamo,Gratuit,Jeune public,Tout public,Workshop
END:VEVENT
BEGIN:VEVENT
DTSTART;TZID=Europe/Berlin:20221014T190000
DTEND;TZID=Europe/Berlin:20221014T190000
DTSTAMP:20260422T034312
CREATED:20250502T162325Z
LAST-MODIFIED:20260420T174550Z
UID:51019-1665774000-1665774000@animatou.com
SUMMARY:Palmarès 2022 et projection des films primés
DESCRIPTION:Entrée libre sous réserve de places disponibles\nL’âge recommandé pour cette séance dépendra des films primés. Certains films peuvent heurter la sensibilité du jeune public! \nAnimatou vous propose de découvrir le palmarès 2022 en voyant ou revoyant les films lauréats. La soirée commencera par une brève cérémonie de remise des trophées pour les lauréat·e·s présent·e·s\, puis nous lancerons notre grand marathon animé de près de 3h30 avec les films adaptés au jeune public\, puis en deuxième partie de soirée les films destinés à un public plus averti.
URL:https://animatou.com/event/2022-palmares-projection-des-films-primes/
LOCATION:Cinéma Spoutnik\, 11 rue de la Coulouvrenière\, Genève\, 1204
CATEGORIES:Gratuit,Jeune public,Spoutnik,Tout public
END:VEVENT
BEGIN:VEVENT
DTSTART;TZID=Europe/Berlin:20221015T150000
DTEND;TZID=Europe/Berlin:20221015T162000
DTSTAMP:20260422T034312
CREATED:20250502T162325Z
LAST-MODIFIED:20260420T174255Z
UID:51017-1665846000-1665850800@animatou.com
SUMMARY:Le pharaon\, le sauvage et la princesse
DESCRIPTION:Achat de billets sur la billetterie du cinéma Les Scala: www.scala-city.ticketack.com \nProjection du dernier long métrage de Michel Ocelot\nSuivi d’une discussion avec le réalisateur \nLe pharaon\, le sauvage et la princesse | Michel Ocelot | France | 2022\n15h00 | Les Scala | 80′ | VoFr | Dès 6 ans \nLe pharaon\, le sauvage et la princesse
URL:https://animatou.com/event/2022-le-pharaon-le-sauvage-et-la-princesse/
LOCATION:Les Scala\, Rue des Eaux-Vives 23\,\, Genève\, 1207\, Switzerland
CATEGORIES:Avant-premières / Longs métrages,Jeune public,Les Scala,Rencontre
END:VEVENT
END:VCALENDAR