BEGIN:VCALENDAR
VERSION:2.0
PRODID:-//Animatou - ECPv6.15.14//NONSGML v1.0//EN
CALSCALE:GREGORIAN
METHOD:PUBLISH
X-WR-CALNAME:Animatou
X-ORIGINAL-URL:https://animatou.com
X-WR-CALDESC:Évènements pour Animatou
REFRESH-INTERVAL;VALUE=DURATION:PT1H
X-Robots-Tag:noindex
X-PUBLISHED-TTL:PT1H
BEGIN:VTIMEZONE
TZID:Europe/Berlin
BEGIN:DAYLIGHT
TZOFFSETFROM:+0100
TZOFFSETTO:+0200
TZNAME:CEST
DTSTART:20190331T010000
END:DAYLIGHT
BEGIN:STANDARD
TZOFFSETFROM:+0200
TZOFFSETTO:+0100
TZNAME:CET
DTSTART:20191027T010000
END:STANDARD
BEGIN:DAYLIGHT
TZOFFSETFROM:+0100
TZOFFSETTO:+0200
TZNAME:CEST
DTSTART:20200329T010000
END:DAYLIGHT
BEGIN:STANDARD
TZOFFSETFROM:+0200
TZOFFSETTO:+0100
TZNAME:CET
DTSTART:20201025T010000
END:STANDARD
BEGIN:DAYLIGHT
TZOFFSETFROM:+0100
TZOFFSETTO:+0200
TZNAME:CEST
DTSTART:20210328T010000
END:DAYLIGHT
BEGIN:STANDARD
TZOFFSETFROM:+0200
TZOFFSETTO:+0100
TZNAME:CET
DTSTART:20211031T010000
END:STANDARD
END:VTIMEZONE
BEGIN:VEVENT
DTSTART;TZID=Europe/Berlin:20200924T180000
DTEND;TZID=Europe/Berlin:20200924T200000
DTSTAMP:20260423T101826
CREATED:20200123T171732Z
LAST-MODIFIED:20200904T144112Z
UID:23260-1600970400-1600977600@animatou.com
SUMMARY:TREIZE: Vernissage de Julien Käser et Alex Baladi
DESCRIPTION:Malgré un programme un peu chamboulé\, nous arrivons au bout du projet TREIZE\, qui aura réuni 13 artistes illustrateurs et illustratrices auteurs des affiches d’Animatou autour d’une oeuvre unique et commune. Alex Baladi et Julien Käser travailleront à la touche finale de ce feu d’artifice de couleurs et de styles différents\, qui restera visible bien après le festival puisque dessiné directement sur la vitrine de l’arcade Animatou pour l’éternité! \nJulien Käser est l’auteur de la joyeuse affiche de l’édition 2007\, dans un esprit très familial et espiègle. Alex Baladi a créé l’affiche 2012 du festival\, qui entrait déjà dans la pré-adolescence à cette époque avec des visuels plus sombres et punchy. Les deux artistes seront présents\, ainsi qu’une grande partie des participants à ce projet\, lors du tout dernier vernissage TREIZE qui aura lieu jeudi 24 septembre au 11\, rue des Grottes.\nCe sera la toute dernière occasion de rencontrer ces femmes et hommes de grand talent\, qui contribuent depuis des années à enrichir l’espace public et la vie culturelle de nos villes grâce à leurs travaux\, qu’il s’agisse d’affiches\, de bédés\, ou d’autres oeuvres visuelles en tous genre. Et une unique occasion de découvrir quelques-unes de leurs publications\, puisqu’un espace sera dédié à chacun et chacune d’entre eux pour vous donner une petite idée de l’incroyable créativité de nos artistes locaux et nationaux\, dont certains viennent d’outre-Sarine\, voire de plus loin encore\, pour cette occasion! \nRejoignez-nous ce dernier jeudi de septembre dès 18h à l’arcade Animatou\, avec votre masque et votre plus beau sourire en-dessous!\nLast call before take-off: on lance la 15ème édition droit derrière.
URL:https://animatou.com/event/treize-vernissage-de-julien-kaeser-et-alex-baladi/
LOCATION:Arcade Animatou\, 11 rue des Grottes\, Genève\, 1201\, Switzerland
CATEGORIES:Evènements,Exposition,Gratuit,Rencontre,TREIZE
ATTACH;FMTTYPE=image/png:https://animatou.com/wp-content/uploads/2020/01/logo-TREIZE-B.png
END:VEVENT
END:VCALENDAR