BEGIN:VCALENDAR
VERSION:2.0
PRODID:-//Animatou - ECPv6.15.14//NONSGML v1.0//EN
CALSCALE:GREGORIAN
METHOD:PUBLISH
X-ORIGINAL-URL:https://animatou.com
X-WR-CALDESC:Évènements pour Animatou
REFRESH-INTERVAL;VALUE=DURATION:PT1H
X-Robots-Tag:noindex
X-PUBLISHED-TTL:PT1H
BEGIN:VTIMEZONE
TZID:Europe/Berlin
BEGIN:DAYLIGHT
TZOFFSETFROM:+0100
TZOFFSETTO:+0200
TZNAME:CEST
DTSTART:20190331T010000
END:DAYLIGHT
BEGIN:STANDARD
TZOFFSETFROM:+0200
TZOFFSETTO:+0100
TZNAME:CET
DTSTART:20191027T010000
END:STANDARD
BEGIN:DAYLIGHT
TZOFFSETFROM:+0100
TZOFFSETTO:+0200
TZNAME:CEST
DTSTART:20200329T010000
END:DAYLIGHT
BEGIN:STANDARD
TZOFFSETFROM:+0200
TZOFFSETTO:+0100
TZNAME:CET
DTSTART:20201025T010000
END:STANDARD
BEGIN:DAYLIGHT
TZOFFSETFROM:+0100
TZOFFSETTO:+0200
TZNAME:CEST
DTSTART:20210328T010000
END:DAYLIGHT
BEGIN:STANDARD
TZOFFSETFROM:+0200
TZOFFSETTO:+0100
TZNAME:CET
DTSTART:20211031T010000
END:STANDARD
END:VTIMEZONE
BEGIN:VEVENT
DTSTART;TZID=Europe/Berlin:20201209T150000
DTEND;TZID=Europe/Berlin:20201209T160000
DTSTAMP:20260424T114200
CREATED:20200120T123844Z
LAST-MODIFIED:20201126T225342Z
UID:23183-1607526000-1607529600@animatou.com
SUMMARY:REPORTÉ // Les mercredis de l’animation
DESCRIPTION:News COVID-19 26 octobre 2020 Les musées\, salles d’expositions et bibliothèques pourront rouvrir leurs portes dès samedi 28 novembre\, mais ce n’est pas le cas des cinéma et théâtres. Le cinéma Dynamo reste donc fermé jusqu’à nouvel avis. Profitez-en pour aller faire un tour au musée et en particulier au Centre d’Art\, ils ont plein de choses qui se préparent pour les enfants!\n\nLe Centre d’Art Contemporain Genève et Animatou présentent\nLES MERCREDIS DE L’ANIMATION\n\nLes mercredis\, c’est quoi? Chaque mois un petit voyage (gratuit) pour partir à la découverte de l’animation contemporaine en famille avec 9 séances de courts métrages d’animation de janvier à décembre. Le détail de chaque programme est annoncé dans le calendrier (liens ci-dessus) une petite semaine à l’avance. \n\n\n\nQuand? Un mercredi par mois à 15h – sauf pendant les vacances d’été (juillet et août)\, et pendant le festival (octobre). \n\n\n\nPour qui? Tous publics et en famille\, dès 4 ans Attention – pendant le Festival au mois d’octobre\, les programmes diffusés par Animatou au Dynamo (Compétition Jeune public\, Compétition expérimentale Labo) sont destinés à un public plus âgé! \n\n\n\nEt c’est où? Au Cinéma Dynamo\, magnifique petite salle d’une quarantaine de places située au 4ème étage du Centre d’Art Contemporain Genève au 10\, rue des Vieux-Grenadiers. Pour les groupes de plus de 10 personnes merci de réserver au 022 329 18 42 ou publics@centre.ch. \n\n\n\nENTRÉE LIBRE\n\n\n\nPlus d’infos sur www.centre.ch Centre d’Art Contemporain Genève 10 rue des Vieux-Grenadiers – 1205 Genève \n\n\n\n\n\n 
URL:https://animatou.com/event/les-mercredis-de-lanimation-24/
LOCATION:Le Dynamo\, Centre d’Art Contemporain – Genève\, Centre d'Art Contemporain\, 10 rue des Vieux-Grenadiers\, Genève\, 1205\, Suisse
CATEGORIES:Anim'Apéro & Mercredis de l'anim,Animatoup'tits,Dynamo,Gratuit
ATTACH;FMTTYPE=image/jpeg:https://animatou.com/wp-content/uploads/2019/12/Carte-postale-mercredis-de-lanimation-2020-crop-2-1.jpg
END:VEVENT
END:VCALENDAR