BEGIN:VCALENDAR
VERSION:2.0
PRODID:-//Animatou - ECPv6.15.14//NONSGML v1.0//EN
CALSCALE:GREGORIAN
METHOD:PUBLISH
X-WR-CALNAME:Animatou
X-ORIGINAL-URL:https://animatou.com
X-WR-CALDESC:Évènements pour Animatou
REFRESH-INTERVAL;VALUE=DURATION:PT1H
X-Robots-Tag:noindex
X-PUBLISHED-TTL:PT1H
BEGIN:VTIMEZONE
TZID:Europe/Berlin
BEGIN:DAYLIGHT
TZOFFSETFROM:+0100
TZOFFSETTO:+0200
TZNAME:CEST
DTSTART:20200329T010000
END:DAYLIGHT
BEGIN:STANDARD
TZOFFSETFROM:+0200
TZOFFSETTO:+0100
TZNAME:CET
DTSTART:20201025T010000
END:STANDARD
BEGIN:DAYLIGHT
TZOFFSETFROM:+0100
TZOFFSETTO:+0200
TZNAME:CEST
DTSTART:20210328T010000
END:DAYLIGHT
BEGIN:STANDARD
TZOFFSETFROM:+0200
TZOFFSETTO:+0100
TZNAME:CET
DTSTART:20211031T010000
END:STANDARD
BEGIN:DAYLIGHT
TZOFFSETFROM:+0100
TZOFFSETTO:+0200
TZNAME:CEST
DTSTART:20220327T010000
END:DAYLIGHT
BEGIN:STANDARD
TZOFFSETFROM:+0200
TZOFFSETTO:+0100
TZNAME:CET
DTSTART:20221030T010000
END:STANDARD
END:VTIMEZONE
BEGIN:VEVENT
DTSTART;TZID=Europe/Berlin:20210714T150000
DTEND;TZID=Europe/Berlin:20210714T160000
DTSTAMP:20260423T212345
CREATED:20210521T115930Z
LAST-MODIFIED:20210719T160646Z
UID:31531-1626274800-1626278400@animatou.com
SUMMARY:Les mercredis de l’animation
DESCRIPTION:Le     et      présentent\n \n\n \n\nLe Centre d’Art Contemporain est ouvert et les conditions d’accueil ont été revues pour assurer une capacité de 20 places dans le respect des mesures sanitaires en vigueur (50% de capacité dans une salle de 40 places\, masque obligatoire dès 12 ans).  \n  \nC’EST LES VACANCES!\nLa peur de volerFinnegan Conor | Irlande | 2012 | 10’Dougal est un petit oiseau qui a peur de voler. La nuit\, ses rêves sont hantés par ce cauchemar récurrent de chute et la journée\, il marche pour se déplacer au lieu d’affronter sa peur. A l’arrivée de l’hiver\, Dougal doit rejoindre le Sud\, mais comment? \nL’été de Boniface P.-L. Granjon\, A. Lanciaux | France | 2011 | 26’Au petit royaume d’Escampette\, Boniface vient tout juste de demander la reine Héloïse en marriage. Mais voilà qu’arrive sa fille pour les vacances d’été: la princesse Mélie\, accompagnée de ses meilleurs amis ! Et malgré les recommandations de la reine\, ces derniers décident en toute naïveté de planter leur tente sur les rives du lac\, au pied même du Mont sacré… \n\n\n\nENTRÉE LIBRE\nIllustration et graphisme carte postale © Thomas Perrodin \n\n\n\nPlus d’infos sur www.centre.ch Centre d’Art Contemporain Genève10\, rue des Vieux-Grenadiers – 1205 Genève \n\n\n\n\n\n 
URL:https://animatou.com/event/les-mercredis-de-lanimation-30/
LOCATION:Le Dynamo\, Centre d’Art Contemporain – Genève\, Centre d'Art Contemporain\, 10 rue des Vieux-Grenadiers\, Genève\, 1205\, Suisse
CATEGORIES:Anim'Apéro & Mercredis de l'anim,Animatoup'tits,Dynamo,Gratuit
END:VEVENT
END:VCALENDAR