BEGIN:VCALENDAR
VERSION:2.0
PRODID:-//Animatou - ECPv6.15.14//NONSGML v1.0//EN
CALSCALE:GREGORIAN
METHOD:PUBLISH
X-WR-CALNAME:Animatou
X-ORIGINAL-URL:https://animatou.com
X-WR-CALDESC:Évènements pour Animatou
REFRESH-INTERVAL;VALUE=DURATION:PT1H
X-Robots-Tag:noindex
X-PUBLISHED-TTL:PT1H
BEGIN:VTIMEZONE
TZID:Europe/Berlin
BEGIN:DAYLIGHT
TZOFFSETFROM:+0100
TZOFFSETTO:+0200
TZNAME:CEST
DTSTART:20210328T010000
END:DAYLIGHT
BEGIN:STANDARD
TZOFFSETFROM:+0200
TZOFFSETTO:+0100
TZNAME:CET
DTSTART:20211031T010000
END:STANDARD
BEGIN:DAYLIGHT
TZOFFSETFROM:+0100
TZOFFSETTO:+0200
TZNAME:CEST
DTSTART:20220327T010000
END:DAYLIGHT
BEGIN:STANDARD
TZOFFSETFROM:+0200
TZOFFSETTO:+0100
TZNAME:CET
DTSTART:20221030T010000
END:STANDARD
BEGIN:DAYLIGHT
TZOFFSETFROM:+0100
TZOFFSETTO:+0200
TZNAME:CEST
DTSTART:20230326T010000
END:DAYLIGHT
BEGIN:STANDARD
TZOFFSETFROM:+0200
TZOFFSETTO:+0100
TZNAME:CET
DTSTART:20231029T010000
END:STANDARD
END:VTIMEZONE
BEGIN:VEVENT
DTSTART;TZID=Europe/Berlin:20220316T160000
DTEND;TZID=Europe/Berlin:20220316T170000
DTSTAMP:20260423T193005
CREATED:20250502T162314Z
LAST-MODIFIED:20250502T162314Z
UID:50975-1647446400-1647450000@animatou.com
SUMMARY:Mercredi de l’animation: Best Of Annecy Kids 2021
DESCRIPTION:Attention\, cette séance est destinée au public dès 6 ans.
URL:https://animatou.com/event/mercredi-de-lanimation-best-of-annecy-kids-2021/
LOCATION:Le Dynamo\, Centre d’Art Contemporain – Genève\, Centre d'Art Contemporain\, 10 rue des Vieux-Grenadiers\, Genève\, 1205\, Suisse
CATEGORIES:Anim'Apéro & Mercredis de l'anim,Dynamo,Gratuit,Jeune public>Animatoup'tits
END:VEVENT
BEGIN:VEVENT
DTSTART;TZID=Europe/Berlin:20220316T160000
DTEND;TZID=Europe/Berlin:20220316T170000
DTSTAMP:20260423T193005
CREATED:20220117T182601Z
LAST-MODIFIED:20220224T142932Z
UID:35636-1647446400-1647450000@animatou.com
SUMMARY:Mercredi de l’animation: Best Of Annecy Kids 2021
DESCRIPTION:Attention\, cette séance est destinée au public dès 6 ans. \n\n\n \n\nENTRÉE LIBRE\n\n\n \nPlus d’infos sur www.centre.chCentre d’Art Contemporain Genève10 rue des Vieux-Grenadiers – 1205 Genève \n\n\n \n 
URL:https://animatou.com/event/les-mercredis-de-lanimation-36/
LOCATION:Le Dynamo\, Centre d’Art Contemporain – Genève\, Centre d'Art Contemporain\, 10 rue des Vieux-Grenadiers\, Genève\, 1205\, Suisse
CATEGORIES:Anim'Apéro & Mercredis de l'anim,Animatoup'tits,Dynamo,Gratuit
ATTACH;FMTTYPE=image/jpeg:https://animatou.com/wp-content/uploads/2022/01/bandeau-mercredi-de-lanimation-2022.jpg
END:VEVENT
BEGIN:VEVENT
DTSTART;TZID=Europe/Berlin:20220324T180000
DTEND;TZID=Europe/Berlin:20220324T210000
DTSTAMP:20260423T193005
CREATED:20250502T162314Z
LAST-MODIFIED:20250502T162314Z
UID:50979-1648144800-1648155600@animatou.com
SUMMARY:Finissage de TREIZE: verrée à l'arcade Animatou
DESCRIPTION:En février 2020\, Animatou lançait le projet TREIZE\, donnant carte blanche aux illustrateurs et illustratrices suisses qui ont produit les visuels du Festival au cours des 15 dernières années. Invité-e-s à s’exprimer au stylo Posca sur la grande surface vitrée de l’arcade Animatou qui donne sur la légendaire et populaire Rue des Grottes\, les treize artistes sont intervenus en solo ou en binômes depuis l’intérieur de l’arcade une fois par mois\, avec quelques ajustements de calendrier hélas nécessaires. \nAprès plus d’un an de gloire\, l’heure est désormais venue de déshabiller la vitrine Animatou de ses magnifiques illustrations qui nous ont enveloppés de couleurs et de gaité\, afin de laisser place à d’autres créations. Rejoignez-nous pour une petite verrée sans chichi et sans masque/pass!
URL:https://animatou.com/event/finissage-de-treize-verree-a-larcade-animatou-2/
LOCATION:Arcade Animatou\, 11 rue des Grottes\, Genève\, 1201\, Switzerland
CATEGORIES:15 ans/TREIZE,Evènements,Gratuit,Rencontre,Soirées
END:VEVENT
BEGIN:VEVENT
DTSTART;TZID=Europe/Berlin:20220324T180000
DTEND;TZID=Europe/Berlin:20220324T210000
DTSTAMP:20260423T193005
CREATED:20220323T151630Z
LAST-MODIFIED:20220323T151904Z
UID:36005-1648144800-1648155600@animatou.com
SUMMARY:Finissage de TREIZE: verrée à l'arcade Animatou
DESCRIPTION:En février 2020\, Animatou lançait le projet TREIZE\, donnant carte blanche aux illustrateurs et illustratrices suisses qui ont produit les visuels du Festival au cours des 15 dernières années. Invité-e-s à s’exprimer au stylo Posca sur la grande surface vitrée de l’arcade Animatou qui donne sur la légendaire et populaire Rue des Grottes\, les treize artistes sont intervenus en solo ou en binômes depuis l’intérieur de l’arcade une fois par mois\, avec quelques ajustements de calendrier hélas nécessaires. \nAprès plus d’un an de gloire\, l’heure est désormais venue de déshabiller la vitrine Animatou de ses magnifiques illustrations qui nous ont enveloppés de couleurs et de gaité\, afin de laisser place à d’autres créations. Rejoignez-nous pour une petite verrée sans chichi et sans masque/pass!
URL:https://animatou.com/event/finissage-de-treize-verree-a-larcade-animatou/
LOCATION:Arcade Animatou\, 11 rue des Grottes\, Genève\, 1201\, Switzerland
CATEGORIES:Evènements,Gratuit,Rencontre,Soirées,TREIZE
ATTACH;FMTTYPE=image/png:https://animatou.com/wp-content/uploads/2014/08/treize.png
END:VEVENT
END:VCALENDAR