BEGIN:VCALENDAR
VERSION:2.0
PRODID:-//Animatou - ECPv6.15.14//NONSGML v1.0//EN
CALSCALE:GREGORIAN
METHOD:PUBLISH
X-WR-CALNAME:Animatou
X-ORIGINAL-URL:https://animatou.com
X-WR-CALDESC:Évènements pour Animatou
REFRESH-INTERVAL;VALUE=DURATION:PT1H
X-Robots-Tag:noindex
X-PUBLISHED-TTL:PT1H
BEGIN:VTIMEZONE
TZID:Europe/Berlin
BEGIN:DAYLIGHT
TZOFFSETFROM:+0100
TZOFFSETTO:+0200
TZNAME:CEST
DTSTART:20220327T010000
END:DAYLIGHT
BEGIN:STANDARD
TZOFFSETFROM:+0200
TZOFFSETTO:+0100
TZNAME:CET
DTSTART:20221030T010000
END:STANDARD
BEGIN:DAYLIGHT
TZOFFSETFROM:+0100
TZOFFSETTO:+0200
TZNAME:CEST
DTSTART:20230326T010000
END:DAYLIGHT
BEGIN:STANDARD
TZOFFSETFROM:+0200
TZOFFSETTO:+0100
TZNAME:CET
DTSTART:20231029T010000
END:STANDARD
BEGIN:DAYLIGHT
TZOFFSETFROM:+0100
TZOFFSETTO:+0200
TZNAME:CEST
DTSTART:20240331T010000
END:DAYLIGHT
BEGIN:STANDARD
TZOFFSETFROM:+0200
TZOFFSETTO:+0100
TZNAME:CET
DTSTART:20241027T010000
END:STANDARD
END:VTIMEZONE
BEGIN:VEVENT
DTSTART;TZID=Europe/Berlin:20230215T150000
DTEND;TZID=Europe/Berlin:20230215T160000
DTSTAMP:20260424T114016
CREATED:20230205T193402Z
LAST-MODIFIED:20230206T150157Z
UID:40772-1676473200-1676476800@animatou.com
SUMMARY:Les mercredis de l’animation: Le lien
DESCRIPTION:
URL:https://animatou.com/event/les-mercredis-de-lanimation-43/
LOCATION:Le Dynamo\, Centre d’Art Contemporain – Genève\, Centre d'Art Contemporain\, 10 rue des Vieux-Grenadiers\, Genève\, 1205\, Suisse
CATEGORIES:Anim'Apéro & Mercredis de l'anim,Animatoup'tits,Dynamo,Gratuit
END:VEVENT
BEGIN:VEVENT
DTSTART;TZID=Europe/Berlin:20230216T190000
DTEND;TZID=Europe/Berlin:20230216T210000
DTSTAMP:20260424T114016
CREATED:20230205T193549Z
LAST-MODIFIED:20230220T193700Z
UID:40774-1676574000-1676581200@animatou.com
SUMMARY:Les jeudis de l’animation: Anim'Apéro avec Alexandre Siqueira
DESCRIPTION:Animapéro ado-adulte\, projection\, rencontre avec le réalisateur Alexandre Siqueira\nDès 16 ans – 19h\nSéance suivie d’un apéritif\nLA MÉTAPHORE ET LA SYMBOLIQUE POUR RACONTER DES SUJETS DIFFICILES\nPendant 5 ans j’ai travaillé sur l’écriture et le développement de mon court métrage d’animation Purpleboy. Plusieurs personnes m’ont dit que j’avais pris trop longtemps dans ce processus. Au cours des années\, j’ai acquis la conviction que cela a pris le temps nécessaire\, car mon intention était d’explorer une langue qui s’éloignait de l’écriture conventionnelle. Et en plus\, plonger profondément dans un thème qui m’était totalement inconnu – l’identité de genre.\nPurpleboy et Terminal (un court métrage d’animation que je développe actuellement) avaient le même point de départ : un concept visuel qui m’a inspiré pour créer une oeuvre basée sur un certain sujet. Je veux dire par là que dans aucun de ces deux films le thème était le point de départ. Dans le cas de Purpleboy\, par exemple\, le sujet de l’identité de genre est apparu au bout des deux ans après le début de l’écriture du projet.\nL’une de mes principales motivations en tant que réalisateur est d’aborder les problèmes émergents (et urgents)\, tant d’un point de vue social que politique. Cependant\, il est important de souligner trois aspects que je considère comme essentiels dans la construction narrative : garder une certaine distance avec les aspects personnels\, se concentrer sur le concept/idée (utilisation d’analogies\, de métaphores et de symboliques) et défendre une vision militante et ouverte envers la société. \nAlexandre Siqueira est réalisateur de films d’animation\, illustrateur et professeur. En 2000\, il coréalise «Sopa Fria»\, dans le cadre d’une formation d’animation en stop-motion. En 2008\, Alexandre fait ses études à l’école de la Poudrière\, en France\, où il réalise «Voyage au Champ de Tournesols». Depuis\, il a développé et collaboré à plusieurs projets de courts et longs métrages\, séries d’animation et clips vidéo. «Purpleboy» est son dernier court métrage d’animation.
URL:https://animatou.com/event/les-jeudis-de-lanimation/
LOCATION:Le Dynamo\, Centre d’Art Contemporain – Genève\, Centre d'Art Contemporain\, 10 rue des Vieux-Grenadiers\, Genève\, 1205\, Suisse
CATEGORIES:Ados/adultes,Anim'Apéro & Mercredis de l'anim,Dynamo,Gratuit,Rencontre
ATTACH;FMTTYPE=image/jpeg:https://animatou.com/wp-content/uploads/2020/08/PURPLEBOY-_pho_274759.jpeg
END:VEVENT
END:VCALENDAR