BEGIN:VCALENDAR
VERSION:2.0
PRODID:-//Animatou - ECPv6.15.14//NONSGML v1.0//EN
CALSCALE:GREGORIAN
METHOD:PUBLISH
X-ORIGINAL-URL:https://animatou.com
X-WR-CALDESC:Évènements pour Animatou
REFRESH-INTERVAL;VALUE=DURATION:PT1H
X-Robots-Tag:noindex
X-PUBLISHED-TTL:PT1H
BEGIN:VTIMEZONE
TZID:Europe/Berlin
BEGIN:DAYLIGHT
TZOFFSETFROM:+0100
TZOFFSETTO:+0200
TZNAME:CEST
DTSTART:20220327T010000
END:DAYLIGHT
BEGIN:STANDARD
TZOFFSETFROM:+0200
TZOFFSETTO:+0100
TZNAME:CET
DTSTART:20221030T010000
END:STANDARD
BEGIN:DAYLIGHT
TZOFFSETFROM:+0100
TZOFFSETTO:+0200
TZNAME:CEST
DTSTART:20230326T010000
END:DAYLIGHT
BEGIN:STANDARD
TZOFFSETFROM:+0200
TZOFFSETTO:+0100
TZNAME:CET
DTSTART:20231029T010000
END:STANDARD
BEGIN:DAYLIGHT
TZOFFSETFROM:+0100
TZOFFSETTO:+0200
TZNAME:CEST
DTSTART:20240331T010000
END:DAYLIGHT
BEGIN:STANDARD
TZOFFSETFROM:+0200
TZOFFSETTO:+0100
TZNAME:CET
DTSTART:20241027T010000
END:STANDARD
END:VTIMEZONE
BEGIN:VEVENT
DTSTART;TZID=Europe/Berlin:20230308T140000
DTEND;TZID=Europe/Berlin:20230308T160000
DTSTAMP:20260424T133050
CREATED:20230207T163912Z
LAST-MODIFIED:20230309T153058Z
UID:40869-1678284000-1678291200@animatou.com
SUMMARY:Les mercredis de l’animation: Atelier 'main gauche' pour enfants
DESCRIPTION:Atelier de création « main gauche » pour enfants\nAnimé par Luan Banzai\, accompagné d’un goûter\nDès 8 ans – de 14h à 16h\, sur inscription uniquement: info@animatou.com\nDESCRIPTION\nNous ne sommes peut-être pas tous·te·s dessinateurs·trices\, mais nous sommes tous·te·s doté·e·s d’une capacité à s’exprimer visuellement. L’expression visuelle existe avant même la parole\, mais elle perd sa force dès que nous commençons à juger notre manière de s’exprimer. Cet atelier propose des exercices expérimentaux liés au dessin et à la peinture avec le but de libérer l’esprit et faire ressortir des sensations sur le papier. Par conséquent\, une conscience émotionnelle se développe et une sensation de bien-être apaisant peut prendre place. \nPRATIQUES ABORDÉES DANS L’ATELIER\nLes pratiques se déroulent autour du dessin et de la peinture à travers différentes dynamiques individuelles et en groupe. Les participant·e·s sont invité·e·s à dessiner toujours avec la main qu’ils n’ont pas l’habitude d’utiliser. L’atelier finit avec un accrochage des oeuvres produites et une petite table ronde sur le ressenti des expériences. \nMATÉRIEL\nFusain\, crayon\, aquarelle\, néo-color\, feutre\, acrylique\, entre autres; papier en divers formats. \nÀ PROPOS DE L’ARTISTE \nLuan Banzai est un artiste visuel brésilien\, professionnel du cinéma basé sur Genève. Ses pratiques multidisciplinaires passent du dessin à la peinture ainsi que par le film et l’animation. Dans son travail\, les influences joyeuses et colorées du Brésil se mélangent avec le côté philosophique des arts traditionnels du Japon\, pays dans lequel l’artiste a fait une partie de ces études\, ainsi que plusieurs voyages et projets artistiques.\nwww.luanbanzai.org
URL:https://animatou.com/event/les-mercredis-de-lanimation-44/
LOCATION:Le Dynamo\, Centre d’Art Contemporain – Genève\, Centre d'Art Contemporain\, 10 rue des Vieux-Grenadiers\, Genève\, 1205\, Suisse
CATEGORIES:Anim'Apéro & Mercredis de l'anim,Dynamo,Gratuit,Jeune public,Workshop
ATTACH;FMTTYPE=image/jpeg:https://animatou.com/wp-content/uploads/2023/02/Luan-Banzai-Atelier-pour-site-scaled.jpg
END:VEVENT
BEGIN:VEVENT
DTSTART;TZID=Europe/Berlin:20230330T190000
DTEND;TZID=Europe/Berlin:20230330T210000
DTSTAMP:20260424T133050
CREATED:20230207T171314Z
LAST-MODIFIED:20230220T193627Z
UID:40878-1680202800-1680210000@animatou.com
SUMMARY:Les jeudis de l'animation: Atelier 'main gauche' pour ados/adultes
DESCRIPTION:Animapéro ado-adulte avec atelier de création « main gauche » pour ados et adultes\nAnimé par Luan Banzai et accompagné d’un apéro\nDès 16 ans – 19h à 21h et sur inscription à info@animatou.com\nDESCRIPTION\nNous ne sommes peut-être pas tous·te·s dessinateurs·trices\, mais nous sommes tous·te·s doté·e·s d’une capacité à s’exprimer visuellement. L’expression visuelle existe avant même la parole\, mais elle perd sa force dès que nous commençons à juger notre manière de s’exprimer. Cet atelier propose des exercices expérimentaux liés au dessin et à la peinture avec le but de libérer l’esprit et faire ressortir des sensations sur le papier. Par conséquent\, une conscience émotionnelle se développe et une sensation de bien-être apaisant peut prendre place. \nPRATIQUES ABORDÉES DANS L’ATELIER\nLes pratiques se déroulent autour du dessin et de la peinture à travers différentes dynamiques individuelles et en groupe. Les participant·e·s sont invité·e·s à dessiner toujours avec la main qu’ils n’ont pas l’habitude d’utiliser. L’atelier finit avec un accrochage des oeuvres produites et une petite table ronde sur le ressenti des expériences. \nMATÉRIEL\nFusain\, crayon\, aquarelle\, néo-color\, feutre\, acrylique\, entre autres; papier en divers formats. \nÀ PROPOS DE L’ARTISTE\nLuan Banzai est un artiste visuel brésilien\, professionnel du cinéma basé sur Genève. Ses pratiques multidisciplinaires passent du dessin à la peinture ainsi que par le film et l’animation. Dans son travail\, les influences joyeuses et colorées du Brésil se mélangent avec le côté philosophique des arts traditionnels du Japon\, pays dans lequel l’artiste a fait une partie de ces études\, ainsi que plusieurs voyages et projets artistiques.\nwww.luanbanzai.org
URL:https://animatou.com/event/les-jeudis-de-lanimation-2/
LOCATION:Le Dynamo\, Centre d’Art Contemporain – Genève\, Centre d'Art Contemporain\, 10 rue des Vieux-Grenadiers\, Genève\, 1205\, Suisse
CATEGORIES:Ados/adultes,Anim'Apéro & Mercredis de l'anim,Dynamo,Gratuit,Workshop
ATTACH;FMTTYPE=image/jpeg:https://animatou.com/wp-content/uploads/2023/02/Luan-Banzai-Atelier-pour-site-scaled.jpg
END:VEVENT
END:VCALENDAR