BEGIN:VCALENDAR
VERSION:2.0
PRODID:-//Animatou - ECPv6.15.14//NONSGML v1.0//EN
CALSCALE:GREGORIAN
METHOD:PUBLISH
X-ORIGINAL-URL:https://animatou.com
X-WR-CALDESC:Évènements pour Animatou
REFRESH-INTERVAL;VALUE=DURATION:PT1H
X-Robots-Tag:noindex
X-PUBLISHED-TTL:PT1H
BEGIN:VTIMEZONE
TZID:Europe/Berlin
BEGIN:DAYLIGHT
TZOFFSETFROM:+0100
TZOFFSETTO:+0200
TZNAME:CEST
DTSTART:20220327T010000
END:DAYLIGHT
BEGIN:STANDARD
TZOFFSETFROM:+0200
TZOFFSETTO:+0100
TZNAME:CET
DTSTART:20221030T010000
END:STANDARD
BEGIN:DAYLIGHT
TZOFFSETFROM:+0100
TZOFFSETTO:+0200
TZNAME:CEST
DTSTART:20230326T010000
END:DAYLIGHT
BEGIN:STANDARD
TZOFFSETFROM:+0200
TZOFFSETTO:+0100
TZNAME:CET
DTSTART:20231029T010000
END:STANDARD
BEGIN:DAYLIGHT
TZOFFSETFROM:+0100
TZOFFSETTO:+0200
TZNAME:CEST
DTSTART:20240331T010000
END:DAYLIGHT
BEGIN:STANDARD
TZOFFSETFROM:+0200
TZOFFSETTO:+0100
TZNAME:CET
DTSTART:20241027T010000
END:STANDARD
END:VTIMEZONE
BEGIN:VEVENT
DTSTART;TZID=Europe/Berlin:20230426T150000
DTEND;TZID=Europe/Berlin:20230426T163000
DTSTAMP:20260424T174949
CREATED:20230220T132831Z
LAST-MODIFIED:20230424T163132Z
UID:40921-1682521200-1682526600@animatou.com
SUMMARY:Les mercredis de l’animation: Rencontre avec Marina Rosset
DESCRIPTION:UNE MINI-MASTERCLASS AVEC MARINA ROSSET\nProjection et rencontre avec la réalisatrice\nDès 6 ans – 15h\nProjection suivie d’une discussion\nGoûter offert à l’issue de la rencontre\nLes enfants sont sous la responsabilité de leurs parents\nDurant cette rencontre\, Marina présentera d’abord trois de ses films\, avant de répondre aux questions des enfants et de tous les spectateurs présents. Elle expliquera les différentes techniques qu’elle utilise dans ses films et comment elle imagine\, construit et réalise un film d’animation. Les participants seront également invités à écrire de petits mots d’amour ou d’amitié\, qui seront ensuite déposés dans une boîte prévue à cet effet\, puis partagés sur les réseaux sociaux d’Animatou si vous le desirez! \nProgramme:\nBotteoubateau | 2007 | 03:00\nLa main de l’ours | 2008 | 04:28\nLa reine des renards | 2022 | 08:50 \nMarina Rosset est née en 1984 à Lausanne. Entre 2003 et 2004\, elle étudie à l’Ecole Nationale Supérieure des Arts Visuels de la Cambre à Bruxelles et poursuit à la HSLU (Hochschule Luzern) de 2004 à 2008\, année où elle obtient son diplôme. Depuis 2008\, elle travaille en freelance et produit ses propres courts-métrages. Son dernier court-métrage La reine des renards\, a gagné de nombreux prix notamment le grand prix Animatou en 2022. Il a été nominé pour le  prix du cinéma suisse dans la catégorie « meilleur film d’animation » 2023.
URL:https://animatou.com/event/les-mercredis-de-lanimation-45/
LOCATION:Le Dynamo\, Centre d’Art Contemporain – Genève\, Centre d'Art Contemporain\, 10 rue des Vieux-Grenadiers\, Genève\, 1205\, Suisse
CATEGORIES:Anim'Apéro & Mercredis de l'anim,Dynamo,Gratuit,Jeune public,Rencontre,Workshop
ATTACH;FMTTYPE=image/png:https://animatou.com/wp-content/uploads/2023/04/Botteoubateau-trim.png
END:VEVENT
END:VCALENDAR